BEGIN:VCALENDAR
VERSION:2.0
PRODID:-//eventon.com NONSGML v1.0//EN
BEGIN:VEVENT
UID:69e768e915b3c
DTSTAMP:20260421T130913
DTSTART:20260422T173000Z
DTEND:20260422T183000Z
TZID:Europe/Dublin
LOCATION:
SUMMARY:Like: The Button That Changed the World
DESCRIPTION: The Association is delighted to invite Bob Goodson to present a webinar on Wednesday\,  22 April from 6.30pm. Bob is the co-author of the Harvard Business Review book  Like: The Button That Changed the World\,  a riveting\,  insider&#8217;s look at the creation and evolution of the like button and what it reveals[..]\nhttps://mbaassociation.ie/events/goodson/
URL:https://mbaassociation.ie/events/goodson/
END:VEVENT
END:VCALENDAR